BEGIN:VCALENDAR
VERSION:2.0
PRODID:-//wp-events-plugin.com//7.2.3.1//EN
TZID:Europe/Berlin
X-WR-TIMEZONE:Europe/Berlin
BEGIN:VEVENT
UID:16246@arsmondo-online.de
DTSTART;TZID=Europe/Berlin:20260520T193000
DTEND;TZID=Europe/Berlin:20260520T213000
DTSTAMP:20251112T212248Z
URL:https://www.arsmondo-online.de/kulturtermine/wko-christian-schmitt-org
 elsound/
SUMMARY:WKO &amp\; Christian Schmitt - Orgelsound
DESCRIPTION:Christian Schmitt\, Orgel\nSébastien Rouland\, Leitung\n\nBENJ
 AMIN BRITTEN\nSimple Symphony op. 4\n\nSAMUEL BARBER\nAdagio for String To
 ccata Festiva op. 36a\n\nANTONIN DVORAK\nStreichquintett op. 97\n(arr. fü
 r Streichorchester von Georg Oyen)\n\nFRANCIS POULENC\nKonzert für Orgel\
 , Streicher und Pauke g-Moll FP93\n\nDie Orgel ist die Königin der Instru
 mente\, war aber bisher mangels Instrument selten in der Harmonie zu erleb
 en. Christian Schmitt\, weltweit renommierter Konzertorganist reist mit ei
 ner eigens für ihn gebauten Orgel. Die musikalische Leitung des Konzerts 
 hat Gastdirigent Sébastien Rouland\, der seit 2018 GMD am Saarländischen
  Staatstheater ist. Das »Adagio for Strings« ist weltberühmt\, es wurde
  schon in sehr vielen Filmen verwendet und wird regelmäßig bei Trauerfei
 ern gespielt. Kaum jemand aber kennt die 1960 entstandene »Toccata festiv
 a« für Orgel\, Streicher und Trompete von Samuel Barber\, die sich durch
  lyrische Expressivität und stürmische Klanggesten auszeichnet und mit e
 iner höchst virtuosen Pedalkadenz des Organisten endet. Francis Poulencs 
 Orgelkonzert für Streicher und Pauke ist ein Klassiker des Repertoires un
 d verbindet barocke Formen mit spätromantischer Expressivität und modern
 er Klangsprache. Die 1934 uraufgeführte »Simple Symphony« von Benjamin 
 Britten verbindet eine neobarocke Textur mit tänzerischen Elementen und a
 rbeitet mit so plastischen Titeln wie »Playful Pizzicato« oder »Sentime
 ntal Saraband«. Dvoráks Streichquintett op. 97 ist stark von Eindrücken
  der »Neuen Welt« inspiriert und enthält Elemente amerikanischer Musikt
 raditionen. Das Arrangement für Streichorchester wurde von WKO-Cellist Ge
 org Oyen erstellt und wird in diesem Programm erstmals aufgeführt.\n\nChr
 istian Schmitt\, Orgel\n\nFoto: Württembergisches Kammerorchester Heilbro
 nn  © Fotostudio M42
ATTACH;FMTTYPE=image/jpeg:https://www.arsmondo-online.de/wp-content/upload
 s/2025/11/WKO-2025_oRJ-©-Fotostudio-M42_klein-3.jpg
CATEGORIES:Konzert
LOCATION:Harmonie Heilbronn\, Theodor-Heuss-Saal\, Allee 28\, Heilbronn\, B
 aden-Württemberg\, 74072\, Heilbronn-Franken\, Deutschland
X-APPLE-STRUCTURED-LOCATION;VALUE=URI;X-ADDRESS=Allee 28\, Heilbronn\, Bade
 n-Württemberg\, 74072\, Heilbronn-Franken\, Deutschland;X-APPLE-RADIUS=10
 0;X-TITLE=Harmonie Heilbronn\, Theodor-Heuss-Saal:geo:0,0
END:VEVENT
BEGIN:VTIMEZONE
TZID:Europe/Berlin
X-LIC-LOCATION:Europe/Berlin
BEGIN:DAYLIGHT
DTSTART:20260329T030000
TZOFFSETFROM:+0100
TZOFFSETTO:+0200
TZNAME:CEST
END:DAYLIGHT
END:VTIMEZONE
END:VCALENDAR