BEGIN:VCALENDAR
VERSION:2.0
PRODID:-//wp-events-plugin.com//7.2.3.1//EN
TZID:Europe/Berlin
X-WR-TIMEZONE:Europe/Berlin
BEGIN:VEVENT
UID:16245@arsmondo-online.de
DTSTART;TZID=Europe/Berlin:20260422T193000
DTEND;TZID=Europe/Berlin:20260422T213000
DTSTAMP:20251112T212132Z
URL:https://www.arsmondo-online.de/kulturtermine/wko-herbert-schuch-fast-n
 ur-beethoven/
SUMMARY:WKO &amp\; Herbert Schuch - (fast) nur Beethoven
DESCRIPTION:Herbert Schuch\, Klavier\nRisto Joost\, Leitung\n\nERKKI-SVEN T
 ÜÜR\nPassion und Illusion\n\nLUDWIG VAN BEETHOVEN\nKonzert für Klavier 
 und Orchester Nr. 3 c-Moll op. 37\nSinfonie Nr. 3 Es-Dur op. 55 »Eroica«
 \n\n»Passion« und »Illusion« sind zwei Grundvoraussetzungen Risto Joos
 t Leitung für die Entstehung musikhistorischer Meilensteine. Eingeleitet 
 von den gleichnamigen\, das unendliche Texturpotenzial des Streichorcheste
 rs hervorragend ausnutzenden Sätzen Erkki-Sven Tüürs\, der zu den herau
 sragendsten Komponisten der Gegenwart gehört\, spannt sich der musikalisc
 he Bogen des Abends bis hin zur bahnbrechenden »Eroica«\, dem Grundstein
  der großen klassisch-romantischen Sinfonie\, die Beethoven selbst als se
 in bedeutendstes Werk bezeichnet. Im Mittelpunkt steht des Maestros dritte
 s Klavierkonzert\, das erste mit sinfonischen Merkmalen\, die der Gattung 
 aus dem Salon in den Konzertsaal verhelfen sollten. Der dem WKO durch zahl
 reiche Projekte eng verbundene Pianist Herbert Schuch gilt als ein Meister
  der Gestaltungskunst und präsentiert »pure Musikalität in pianistische
 r Perfektion« (Pedro Obiera\, Westdeutsche Allgemeine Zeitung).\n\nHerber
 t Schuch\, Klavier - (Fast) nur Beethoven\n\nFoto: Württembergisches Kamm
 erorchester Heilbronn  © Fotostudio M42
ATTACH;FMTTYPE=image/jpeg:https://www.arsmondo-online.de/wp-content/upload
 s/2025/11/WKO-2025_mRJ-©-Fotostudio-M42_klein-1.jpg
CATEGORIES:Konzert
LOCATION:Harmonie Heilbronn\, Theodor-Heuss-Saal\, Allee 28\, Heilbronn\, B
 aden-Württemberg\, 74072\, Heilbronn-Franken\, Deutschland
X-APPLE-STRUCTURED-LOCATION;VALUE=URI;X-ADDRESS=Allee 28\, Heilbronn\, Bade
 n-Württemberg\, 74072\, Heilbronn-Franken\, Deutschland;X-APPLE-RADIUS=10
 0;X-TITLE=Harmonie Heilbronn\, Theodor-Heuss-Saal:geo:0,0
END:VEVENT
BEGIN:VTIMEZONE
TZID:Europe/Berlin
X-LIC-LOCATION:Europe/Berlin
BEGIN:DAYLIGHT
DTSTART:20260329T030000
TZOFFSETFROM:+0100
TZOFFSETTO:+0200
TZNAME:CEST
END:DAYLIGHT
END:VTIMEZONE
END:VCALENDAR