BEGIN:VCALENDAR
VERSION:2.0
PRODID:-//wp-events-plugin.com//7.2.3.1//EN
TZID:Europe/Berlin
X-WR-TIMEZONE:Europe/Berlin
BEGIN:VEVENT
UID:16247@arsmondo-online.de
DTSTART;TZID=Europe/Berlin:20260618T193000
DTEND;TZID=Europe/Berlin:20260618T213000
DTSTAMP:20251120T211305Z
URL:https://www.arsmondo-online.de/kulturtermine/wko-pascal-schumacher-vib
 raphon/
SUMMARY:WKO &amp\; Pascal Schumacher - Minimal Vibes für großes Orchester
DESCRIPTION:Pascal Schumacher\, Vibraphon\nRisto Joost\, Leitung\n\nLOUISE 
 FARRENC\nOuvertüre Nr. 2 Es-Dur op. 24\n\nJUDD GREENSTEIN\n»Watershed«\
 nfür Vibraphon und Orchester (dt. Erstaufführung)\nCommissioned by Luxem
 bourg Philharmonic &amp\; Philharmonie Luxembourg\, Dallas Symphony Orches
 tra and Württembergisches Kammerorchester Heilbronn.\n\nJOHANNES BRAHMS\n
 Sinfonie Nr. 2 D-Dur op. 73\n\nSchwingende Klangplatten mit Gruseleffekt: 
 Das Vibraphon\, konstruiert in den 1920er Jahren\, verfügt über ein Peda
 l\, das den Klang lang und warm macht\, sowie einen kleinen Motor als akus
 tischem Trick\, der ihn vibrieren lässt und dem Instrument seinen Namen g
 ibt. So kann das Vibraphon lyrisch\, avantgardistisch aber auch gruselig k
 lingen. Das haben Filmkomponisten früh erkannt und es gern für spannende
  Szenen eingesetzt. Das WKO widmet nun dem »Underdog« der Instrumente se
 in 10. Abo-Konzert und mehr noch\, es bringt gemeinsam mit dem preisgekrö
 nten luxemburgischen Vibraphonisten und musikalischen Grenzgänger Pascal 
 Schumacher ein Konzert zur deutschen Erstaufführung\, das dem Solisten vo
 n dem amerikanischen Komponisten Judd Greenstein auf den Leib geschrieben 
 wurde. Greensteins Musiksprache erreicht ihr Publikum als Geschichte\, in 
 der der Kontrast zwischen den getriebenen\, konkurrierenden Pulsschlägen 
 der New Yorker Straßen seiner Kindheit und der Friedlichkeit seiner jetzi
 gen ländlichen Wahlheimat eine entscheidende Rolle spielt. Sein Werk ist 
 als »wunderschön und gleichzeitig nachdenklich machend« bezeichnet word
 en. Umrahmt wird diese gerade erst entstandene Musik von einer Konzertouve
 rtüre der vollkommen zu Unrecht vergessenen französischen Komponistin\, 
 Pianistin und Musikwissenschaftlerin Louise Farrenc und der klanggewaltige
 n 2. Sinfonie von Johannes Brahms — dem zweiten Teil des Sinfonien — Z
 yklus von Johannes Brahms. Ein toller Saisonabschluss mit sommerlich-sphä
 rischen Klängen!\n\nPascal Schumacher\, Vibraphon\n\nFoto: Württembergis
 ches Kammerorchester Heilbronn  © Fotostudio M42
ATTACH;FMTTYPE=image/jpeg:https://www.arsmondo-online.de/wp-content/upload
 s/2025/11/WKO-2025_mRJ-©-Fotostudio-M42_klein-2.jpg
CATEGORIES:Konzert
LOCATION:Harmonie Heilbronn\, Theodor-Heuss-Saal\, Allee 28\, Heilbronn\, B
 aden-Württemberg\, 74072\, Heilbronn-Franken\, Deutschland
X-APPLE-STRUCTURED-LOCATION;VALUE=URI;X-ADDRESS=Allee 28\, Heilbronn\, Bade
 n-Württemberg\, 74072\, Heilbronn-Franken\, Deutschland;X-APPLE-RADIUS=10
 0;X-TITLE=Harmonie Heilbronn\, Theodor-Heuss-Saal:geo:0,0
END:VEVENT
BEGIN:VTIMEZONE
TZID:Europe/Berlin
X-LIC-LOCATION:Europe/Berlin
BEGIN:DAYLIGHT
DTSTART:20260329T030000
TZOFFSETFROM:+0100
TZOFFSETTO:+0200
TZNAME:CEST
END:DAYLIGHT
END:VTIMEZONE
END:VCALENDAR