BEGIN:VCALENDAR
VERSION:2.0
PRODID:-//wp-events-plugin.com//7.2.3.1//EN
TZID:Europe/Berlin
X-WR-TIMEZONE:Europe/Berlin
BEGIN:VEVENT
UID:17544@arsmondo-online.de
DTSTART;TZID=Europe/Berlin:20260626T200000
DTEND;TZID=Europe/Berlin:20260725T220000
DTSTAMP:20260225T190930Z
URL:https://www.arsmondo-online.de/kulturtermine/wo-die-goetter-kauern-wie
 -hunde/
SUMMARY:Wo die Götter kauern wie Hunde
DESCRIPTION:Wo die Götter kauern wie Hunde (Uraufführung)\n von Leon Engl
 er \n\n\n\n\n\n\n»Wo die Götter kauern wie Hunde« ist eine absurde\, tr
 agikomische Parabel über Fortschrittswahn\, Hybris und Unsterblichkeitsse
 hnsucht. Im Mittelpunkt steht die Astrophysikerin und Molekularbiologin Dr
 . Dr. Sophia Maillart\, die am Max-Planck-Institut für extraterrestrische
  Physik in Genf das Weltall und genetische Telomere erforscht\, um das Uni
 versum zu retten und den Tod zu überwinden.\nEin banaler Schlüsseldiens
 tbesuch führt sie zur exzentrischen Petra\, einer ehemaligen Technikethik
 erin\, die in Sophias Schlüssel den Zugang zu einem mythischen Garten mit
  dem »Kraut der Unsterblichkeit« vermutet. Gemeinsam mit der Witwe Helga
 \, deren Tochter Arachne und der Detektivin Kassandra spinnt sie ein grote
 skes Komplott\, um an dieses Kraut heranzukommen.\n\nLeon Engler verbindet
  antike Motive mit moderner Wissenschaftskritik\, Alltagsbanalitäten und 
 Witz. Sein Stück ist ein philosophisches Lustspiel über Größenwahn\, t
 echnische Überforderung und die Sehnsucht nach Sinn in einer entzauberten
  Welt. Die Dialoge sind pointiert\, die Figuren grotesk\, der Ton schwank
 t zwischen Farce und Tragödie. Ein rasantes\, intellektuell funkelndes Sc
 hauspiel über Menschen\, die den Himmel erobern wollen – und dabei auf 
 der Erde stolpern.\n\nDas Stück gewann den ersten Preis beim Internationa
 len Dramenwettbewerb »Science &amp\; Theatre« 2025.\n\n\n\n\n\n\n\n\n\n\
 nFoto: Seidl Design\n\n\n\n\n\n\n\n\n\n\n\n\n&nbsp\;
ATTACH;FMTTYPE=image/jpeg:https://www.arsmondo-online.de/wp-content/upload
 s/2026/02/Wo-die-Goetter.jpg
CATEGORIES:Theater
LOCATION:experimenta\, Science Dome\, Experimenta-Platz\, Heilbronn\, Deuts
 chland
X-APPLE-STRUCTURED-LOCATION;VALUE=URI;X-ADDRESS=Experimenta-Platz\, Heilbro
 nn\, Deutschland;X-APPLE-RADIUS=100;X-TITLE=experimenta\, Science Dome:geo
 :0,0
END:VEVENT
BEGIN:VTIMEZONE
TZID:Europe/Berlin
X-LIC-LOCATION:Europe/Berlin
BEGIN:DAYLIGHT
DTSTART:20260329T030000
TZOFFSETFROM:+0100
TZOFFSETTO:+0200
TZNAME:CEST
END:DAYLIGHT
END:VTIMEZONE
END:VCALENDAR