BEGIN:VCALENDAR
VERSION:2.0
PRODID:-//wp-events-plugin.com//7.2.3.1//EN
TZID:Europe/Berlin
X-WR-TIMEZONE:Europe/Berlin
BEGIN:VEVENT
UID:15536@arsmondo-online.de
DTSTART;TZID=Europe/Berlin:20260607T150000
DTEND;TZID=Europe/Berlin:20260607T161500
DTSTAMP:20251019T222918Z
URL:https://www.arsmondo-online.de/kulturtermine/wolkenrotz/
SUMMARY:Wolkenrotz
DESCRIPTION: von Vera Schindler \n\nDie drei Kinder Kenny\, Bente und Layla
  wohnen im höchsten Haus der Stadt. Dort\, wo die Briefe mit Mahnungen un
 d Zahlungserinnerungen aus den Briefkästen quellen und die Hausflure vers
 topfen. Wo die Eltern wenig Zeit für ihre Kinder haben\, weil sie arbeite
 n oder sich nicht für sie interessieren. Kenny malt überall und bei jede
 r Gelegenheit und liebt Schlumpfeis\, Bente ist ein Wortkünstler und kenn
 t sich bestens mit Spinnen aus\, und Layla kann mit ihrer Origami-Kunst di
 e verrücktesten Dinge erschaffen. Die drei kommen auf die Idee\, aus den 
 sinnlosen Briefen\, die die Bewohner des Wolkenkratzers sowieso nicht öff
 nen\, weil sie die Rechnungen nicht bezahlen können\, ein Papierhaus zu e
 rschaffen. Die Kinder werden unzertrennlich und bilden die Gang aus dem Pa
 pierhaus. Dank ihrer Gemeinschaft sind sie stark\, wenn die Kinder aus den
  Steinhäusern sie ärgern. Sie entwickeln Superkräfte beim Erledigen der
  Hausaufgaben und eine Fantasie\, die ihnen Flügel verleiht.\n\nMit Poesi
 e und anarchischer Vorstellungskraft sprengt Autorin Vera Schindler Mauern
  aus Vorurteilen\, legt ein gewitztes Fundament aus Empathie und überbaut
  es mit skurriler Komik. »Wolkenrotz« ist ein berührendes Plädoyer fü
 r mehr gesellschaftlichen Zusammenhalt und zeigt\, dass Mut nicht nur Berg
 e\, sondern manchmal auch Wolkenkratzer versetzen kann.\n\nDas Stück wurd
 e mit dem Förderpreis des Berliner Kindertheaterpreises 2021 und dem För
 derpreis des Jugendtheaterpreises Baden-Württemberg 2022 ausgezeichnet.\n
 \nMit freundlicher Unterstützung der Kreissparkasse Heilbronn\n\n&nbsp\;\
 n\nFoto: Jochen Klenk
ATTACH;FMTTYPE=image/jpeg:https://www.arsmondo-online.de/wp-content/upload
 s/2025/10/THHN_Wolkenrotz_444x444px.jpg
CATEGORIES:Theater
LOCATION:Theater Heilbronn\, BOXX\, Berliner Platz 1\, Heilbronn\, Baden-W
 ürttemberg\, 74072 \, Heilbronn-Franken\, Deutschland
X-APPLE-STRUCTURED-LOCATION;VALUE=URI;X-ADDRESS=Berliner Platz 1\, Heilbron
 n\, Baden-Württemberg\, 74072 \, Heilbronn-Franken\, Deutschland;X-APPLE-
 RADIUS=100;X-TITLE=Theater Heilbronn\, BOXX:geo:0,0
END:VEVENT
BEGIN:VTIMEZONE
TZID:Europe/Berlin
X-LIC-LOCATION:Europe/Berlin
BEGIN:DAYLIGHT
DTSTART:20260329T030000
TZOFFSETFROM:+0100
TZOFFSETTO:+0200
TZNAME:CEST
END:DAYLIGHT
END:VTIMEZONE
END:VCALENDAR