BEGIN:VCALENDAR
VERSION:2.0
PRODID:-//wp-events-plugin.com//7.2.3.1//EN
TZID:Europe/Berlin
X-WR-TIMEZONE:Europe/Berlin
BEGIN:VEVENT
UID:18181@arsmondo-online.de
DTSTART;TZID=Europe/Berlin:20260430T190000
DTEND;TZID=Europe/Berlin:20260430T201500
DTSTAMP:20260413T142821Z
URL:https://www.arsmondo-online.de/kulturtermine/zwinger-x-akryl/
SUMMARY:zwinger x AKRYL
DESCRIPTION:Poetisch unterwegs zwischen zeitlosem Folk und treibendem Indie
 -Pop\n\nHeidelberger Stückemarkt\n\n\nzwinger x\nTheaterplatz\n\n\n\n\nAK
 RYLS Live-Sound zeigt eine ganz eigene\, autonome Klangsprache: Indie-Pop 
 und Folk\, gemischt mit Sprenkeln von elektronisch verfremdeten Elementen\
 , sanften Chören\, treibenden Gitarren und erdigen Blechbläsern. Das Erg
 ebnis ist AKRYL – halb Kunstfigur\, halb verpixeltes Selbstporträt. Ihr
 e Musik ist intimer Ausdruck und kunstvoller Schaffensdrang zugleich\, die
  Sprachkompositionen sind erlebte Poesie\, die etwas anstoßen und eigene 
 tiefe Erinnerungen und Emotionen wecken. Die Arrangements ihrer Songs erar
 beitet die ausgebildete Multiinstrumentalistin\, Produzentin und Sängerin
  akribisch\, erschafft\, verwirft und setzt neu zusammen\, bis alles inein
 andergreift. Im letzten Herbst war AKRYL auf ihrer ersten Headliner-Tour u
 nterwegs.\n\n\n\n
CATEGORIES:Konzert
LOCATION:Theater und Orchester Heidelberg\, Theaterstraße 10\, Heidelberg\
 , Baden-Württemberg\, 69117\, Rhein-Neckar\, Deutschland
X-APPLE-STRUCTURED-LOCATION;VALUE=URI;X-ADDRESS=Theaterstraße 10\, Heidelb
 erg\, Baden-Württemberg\, 69117\, Rhein-Neckar\, Deutschland;X-APPLE-RADI
 US=100;X-TITLE=Theater und Orchester Heidelberg:geo:0,0
END:VEVENT
BEGIN:VTIMEZONE
TZID:Europe/Berlin
X-LIC-LOCATION:Europe/Berlin
BEGIN:DAYLIGHT
DTSTART:20260329T030000
TZOFFSETFROM:+0100
TZOFFSETTO:+0200
TZNAME:CEST
END:DAYLIGHT
END:VTIMEZONE
END:VCALENDAR