BEGIN:VCALENDAR
VERSION:2.0
PRODID:-//wp-events-plugin.com//7.2.3.1//EN
TZID:Europe/Berlin
X-WR-TIMEZONE:Europe/Berlin
BEGIN:VEVENT
UID:18178@arsmondo-online.de
DTSTART;TZID=Europe/Berlin:20260429T160000
DTEND;TZID=Europe/Berlin:20260429T173000
DTSTAMP:20260413T142721Z
URL:https://www.arsmondo-online.de/kulturtermine/zwinger-x-antirassismus/
SUMMARY:zwinger x antirassismus
DESCRIPTION:Crashkurs zu antiasiatischem Rassismus anlässlich der Produkti
 on »Asiawochen« mit Diane J. Pitzer\n\nHeidelberger Stückemarkt\n\n\nzw
 inger x\nTheaterplatz\n\n\n\n\nAsiatisch gelesene Menschen sind in Deutsch
 land und Europa immer wieder Zielscheibe rassistischer Zuschreibungen\, Au
 sschlüsse und Gewalt. Der sogenannte anti-asiatische Rassismus zeigt sich
  oft subtil: in Exotisierung\, Stereotypen (»fleißig«\, »angepasst«\,
  »still«) oder in der ständigen Fremdzuschreibung (»Wo kommst du wirkl
 ich her?«).\nDie Produktion »Asiawochen« zum Anlass nutzend\, setzen wi
 r uns in diesem Workshop mit den historischen und aktuellen Dimensionen vo
 n anti-asiatischem Rassismus auseinander. Anhand von Beispielen aus Medien
 \, Alltag und Institutionen fragen wir: Welche Bilder prägen unser Denken
 ? Wie wirkt sich anti-asiatischer Rassismus im Alltag aus? Wie kann solida
 risches Handeln konkret aussehen?\nDer Workshop\, angeleitet von Diane J. 
 Pitzer vom Meltingpot Collective\, bietet einen Raum für Input\, Reflexio
 n und Austausch. Er richtet sich an alle\, die sich mit (anti-asiatischem)
  Rassismus auseinandersetzen möchten – sei es aus persönlichem\, polit
 ischem oder beruflichem Interesse.\nDer Workshop ist kostenlos! Es ist kei
 ne Anmeldung erforderlich.\n\n\n\n
CATEGORIES:Literatur und Wort
LOCATION:Theater und Orchester Heidelberg\, Theaterstraße 10\, Heidelberg\
 , Baden-Württemberg\, 69117\, Rhein-Neckar\, Deutschland
X-APPLE-STRUCTURED-LOCATION;VALUE=URI;X-ADDRESS=Theaterstraße 10\, Heidelb
 erg\, Baden-Württemberg\, 69117\, Rhein-Neckar\, Deutschland;X-APPLE-RADI
 US=100;X-TITLE=Theater und Orchester Heidelberg:geo:0,0
END:VEVENT
BEGIN:VTIMEZONE
TZID:Europe/Berlin
X-LIC-LOCATION:Europe/Berlin
BEGIN:DAYLIGHT
DTSTART:20260329T030000
TZOFFSETFROM:+0100
TZOFFSETTO:+0200
TZNAME:CEST
END:DAYLIGHT
END:VTIMEZONE
END:VCALENDAR