BEGIN:VCALENDAR
VERSION:2.0
PRODID:-//wp-events-plugin.com//7.2.3.1//EN
TZID:Europe/Berlin
X-WR-TIMEZONE:Europe/Berlin
BEGIN:VEVENT
UID:18179@arsmondo-online.de
DTSTART;TZID=Europe/Berlin:20260429T190000
DTEND;TZID=Europe/Berlin:20260429T201500
DTSTAMP:20260413T142723Z
URL:https://www.arsmondo-online.de/kulturtermine/zwinger-x-babuko/
SUMMARY:zwinger x babuko
DESCRIPTION:Einzigartige Mischung aus anatolischen Gesängen und westlicher
  Elektromusik\n\nHeidelberger Stückemarkt\n\n\nzwinger x\nTheaterplatz\n\
 n\n\n\nDer türkischstämmige Produzent Uğur Kepenek und die kurdische S
 ängerin Nadin Tanriverdi bringen ihre kulturellen Wurzeln in der Musik zu
 m Ausdruck: Durch die türkische Flöte Ney\, Darbuka-Samples\, clubbigen 
 Drums und eingängigen Synthesizer-Melodien entsteht ein zum Tanzen provoz
 ierender Sound\, der die hypnotischen Vocals trägt. Die in türkischer Sp
 rache verfassten poetischen Texte erzählen Geschichten\, die eine magisch
 e Atmosphäre schaffen\, und sowohl vertraut als auch ungewöhnlich klingt
 . Babuko trifft durch ihre Interpretation von Anatolian Electro-Pop mitten
  ins Herz und hinterlässt einen bleibenden Eindruck.\n\n\n\n
CATEGORIES:Konzert
LOCATION:Theater und Orchester Heidelberg\, Theaterstraße 10\, Heidelberg\
 , Baden-Württemberg\, 69117\, Rhein-Neckar\, Deutschland
X-APPLE-STRUCTURED-LOCATION;VALUE=URI;X-ADDRESS=Theaterstraße 10\, Heidelb
 erg\, Baden-Württemberg\, 69117\, Rhein-Neckar\, Deutschland;X-APPLE-RADI
 US=100;X-TITLE=Theater und Orchester Heidelberg:geo:0,0
END:VEVENT
BEGIN:VTIMEZONE
TZID:Europe/Berlin
X-LIC-LOCATION:Europe/Berlin
BEGIN:DAYLIGHT
DTSTART:20260329T030000
TZOFFSETFROM:+0100
TZOFFSETTO:+0200
TZNAME:CEST
END:DAYLIGHT
END:VTIMEZONE
END:VCALENDAR