BEGIN:VCALENDAR
VERSION:2.0
PRODID:-//wp-events-plugin.com//7.2.3.1//EN
TZID:Europe/Berlin
X-WR-TIMEZONE:Europe/Berlin
BEGIN:VEVENT
UID:18177@arsmondo-online.de
DTSTART;TZID=Europe/Berlin:20260428T190000
DTEND;TZID=Europe/Berlin:20260428T190000
DTSTAMP:20260413T142715Z
URL:https://www.arsmondo-online.de/kulturtermine/zwinger-x-elektroall/
SUMMARY:zwinger x elektroall
DESCRIPTION:Live performtes Techno-Hörspiel von Philip Ahrens\n\nHeidelber
 ger Stückemarkt\n\n\nzwinger x\nTheaterplatz\n\n\n\n\nZwischen treibendem
  Techno\, House und Drum’n’Bass entfaltet sich eine Geschichte auf dem
  fiktiven Planeten Zorp – einer Welt\, in der Musik nicht mehr aus Gefü
 hlen entsteht\, sondern als Werkzeug einer autokratischen Macht dient. Im 
 Zentrum steht Robo\, ein Robotermädchen\, das nach einer Begegnung mit de
 r Menschheit gelernt hat\, was Emotion bedeutet und dafür nun verfolgt wi
 rd. Nach ihrer Flucht aus dem Gefängnis schließt sie sich einer Widersta
 ndsbewegung an\, um das Regime des Bösewichts Oberst Maschinski zu stürz
 en. Eine Revolution beginnt – getragen von Beats\, Stimmen und der Frage
 \, wem Kunst eigentlich gehört.\n»Das Elektroall I – Robos Revolution
 « ist ein Live-Techno-Hörspiel für Jung und Alt\, das clubbige Klangwel
 ten mit narrativem Storytelling verbindet.\n\n\n\n
CATEGORIES:Konzert
LOCATION:Theater und Orchester Heidelberg\, Theaterstraße 10\, Heidelberg\
 , Baden-Württemberg\, 69117\, Rhein-Neckar\, Deutschland
X-APPLE-STRUCTURED-LOCATION;VALUE=URI;X-ADDRESS=Theaterstraße 10\, Heidelb
 erg\, Baden-Württemberg\, 69117\, Rhein-Neckar\, Deutschland;X-APPLE-RADI
 US=100;X-TITLE=Theater und Orchester Heidelberg:geo:0,0
END:VEVENT
BEGIN:VTIMEZONE
TZID:Europe/Berlin
X-LIC-LOCATION:Europe/Berlin
BEGIN:DAYLIGHT
DTSTART:20260329T030000
TZOFFSETFROM:+0100
TZOFFSETTO:+0200
TZNAME:CEST
END:DAYLIGHT
END:VTIMEZONE
END:VCALENDAR