BEGIN:VCALENDAR
VERSION:2.0
PRODID:-//wp-events-plugin.com//7.2.3.1//EN
TZID:Europe/Berlin
X-WR-TIMEZONE:Europe/Berlin
BEGIN:VEVENT
UID:18183@arsmondo-online.de
DTSTART;TZID=Europe/Berlin:20260501T153000
DTEND;TZID=Europe/Berlin:20260501T173000
DTSTAMP:20260413T142813Z
URL:https://www.arsmondo-online.de/kulturtermine/zwinger-x-hauff-hinz/
SUMMARY:zwinger x HAUFF + HINZ
DESCRIPTION:Elektronische Beats\, Bläser und Percussion – spontan und li
 ve!\n\nHeidelberger Stückemarkt\n\n\nzwinger x\nTheaterplatz\n\n\n\n\nHin
 ter HAUFF+HINZ verbergen sich Julian Maier-Hauff und Peter Hinz. Die beide
 n Musiker aus Mannheim verbinden elektronische Beats\, Bläser und Percuss
 ion – alles live und völlig ohne vorgefertigte Tracks! Julian spielt Li
 ve-Electronics und Horns (Trompete\, Saxophon)\, Peter ergänzt mit Percus
 sion. Ihre Musik entsteht spontan im Moment und kombiniert kunstvoll elekt
 ronische Klänge mit akustischen Instrumenten. Perfekt für einen sonnigen
  Nachmittag auf dem Theaterplatz!\n\n\n\n
CATEGORIES:Konzert
LOCATION:Theater und Orchester Heidelberg\, Theaterstraße 10\, Heidelberg\
 , Baden-Württemberg\, 69117\, Rhein-Neckar\, Deutschland
X-APPLE-STRUCTURED-LOCATION;VALUE=URI;X-ADDRESS=Theaterstraße 10\, Heidelb
 erg\, Baden-Württemberg\, 69117\, Rhein-Neckar\, Deutschland;X-APPLE-RADI
 US=100;X-TITLE=Theater und Orchester Heidelberg:geo:0,0
END:VEVENT
BEGIN:VTIMEZONE
TZID:Europe/Berlin
X-LIC-LOCATION:Europe/Berlin
BEGIN:DAYLIGHT
DTSTART:20260329T030000
TZOFFSETFROM:+0100
TZOFFSETTO:+0200
TZNAME:CEST
END:DAYLIGHT
END:VTIMEZONE
END:VCALENDAR