BEGIN:VCALENDAR
VERSION:2.0
PRODID:-//wp-events-plugin.com//7.2.3.1//EN
TZID:Europe/Berlin
X-WR-TIMEZONE:Europe/Berlin
BEGIN:VEVENT
UID:18190@arsmondo-online.de
DTSTART;TZID=Europe/Berlin:20260523T200000
DTEND;TZID=Europe/Berlin:20260523T200000
DTSTAMP:20260413T142902Z
URL:https://www.arsmondo-online.de/kulturtermine/zwinger-x-heideldrag-2/
SUMMARY:zwinger x heideldrag
DESCRIPTION:Dragshow mit den Künstler*innen von HeidelDrag\n\n\n\nzwinger 
 x\nZwinger 1\n\n\n\n\nzwinger x heideldrag geht in die dritte Runde: Diesm
 al möchten euch die Künstler*innen von HeidelDrag in eine Welt des Absur
 den entführen\, des Unerwarteten\, in eine Welt mit Licht und Schatten\, 
 aus Träumen und Albträumen.\nUnverfälschte Emotionen\, gute Musik\, Dra
 g und grenzenlose Fantasie erwarten euch für eine Show jenseits der Reali
 tät!\nHeidelDrag-Künstler*innen:\nHextrogen Shot\nNora Grets.\nGalaxy Di
 amond\nAlice Diamonds\nPhil the Fourth\nPetrolia Piccante\n\nSpecial Guest
 s:\nDavina Lover\nGravitea\n\n\n\n
CATEGORIES:Crossover
LOCATION:Theater und Orchester Heidelberg\, Theaterstraße 10\, Heidelberg\
 , Baden-Württemberg\, 69117\, Rhein-Neckar\, Deutschland
X-APPLE-STRUCTURED-LOCATION;VALUE=URI;X-ADDRESS=Theaterstraße 10\, Heidelb
 erg\, Baden-Württemberg\, 69117\, Rhein-Neckar\, Deutschland;X-APPLE-RADI
 US=100;X-TITLE=Theater und Orchester Heidelberg:geo:0,0
END:VEVENT
BEGIN:VTIMEZONE
TZID:Europe/Berlin
X-LIC-LOCATION:Europe/Berlin
BEGIN:DAYLIGHT
DTSTART:20260329T030000
TZOFFSETFROM:+0100
TZOFFSETTO:+0200
TZNAME:CEST
END:DAYLIGHT
END:VTIMEZONE
END:VCALENDAR