BEGIN:VCALENDAR
VERSION:2.0
PRODID:-//wp-events-plugin.com//7.2.3.1//EN
TZID:Europe/Berlin
X-WR-TIMEZONE:Europe/Berlin
BEGIN:VEVENT
UID:18173@arsmondo-online.de
DTSTART;TZID=Europe/Berlin:20260425T190000
DTEND;TZID=Europe/Berlin:20260425T201500
DTSTAMP:20260413T142655Z
URL:https://www.arsmondo-online.de/kulturtermine/zwinger-x-lin-2/
SUMMARY:zwinger x LIN
DESCRIPTION:\n1 × LIN\, 5 × Instrumente - irgendwo zwischen Elektro und P
 op\n\nHeidelberger Stückemarkt\n\n\nzwinger x\nTheaterplatz\n\n\n\n\nLIN 
 ist eine Soloband. Gitarre\, Drums\, Synthesizer und Loop-Station werden h
 ier zu einer beeindruckenden Live-Show zusammengefügt\, die schon unzähl
 ige Menschen in ihren Bann gezogen hat. Egal ob Festivalbühne oder Club\,
  LIN hat in den letzten Jahren hunderte Konzerte in Deutschland\, Österre
 ich\, Italien und Frankreich gespielt und dabei die Genre-sprengenden Powe
 r-Songs in die Nacht geschickt. In den Songtexten inszeniert LIN eine Welt
 \, in der gesellschaftlich gemachte Normen aufgebrochen und neu gesetzt we
 rden und setzt damit in Zeiten immer stärker werdender rechter Kräfte ei
 n lautstarkes Zeichen. LIN hat im November 2025 mit »Focus On The In_Betw
 een« ein neues Album veröffentlicht.\n\n\n\n\n
CATEGORIES:Konzert
LOCATION:Theater und Orchester Heidelberg\, Theaterstraße 10\, Heidelberg\
 , Baden-Württemberg\, 69117\, Rhein-Neckar\, Deutschland
X-APPLE-STRUCTURED-LOCATION;VALUE=URI;X-ADDRESS=Theaterstraße 10\, Heidelb
 erg\, Baden-Württemberg\, 69117\, Rhein-Neckar\, Deutschland;X-APPLE-RADI
 US=100;X-TITLE=Theater und Orchester Heidelberg:geo:0,0
END:VEVENT
BEGIN:VTIMEZONE
TZID:Europe/Berlin
X-LIC-LOCATION:Europe/Berlin
BEGIN:DAYLIGHT
DTSTART:20260329T030000
TZOFFSETFROM:+0100
TZOFFSETTO:+0200
TZNAME:CEST
END:DAYLIGHT
END:VTIMEZONE
END:VCALENDAR