BEGIN:VCALENDAR
VERSION:2.0
PRODID:-//wp-events-plugin.com//7.2.3.1//EN
TZID:Europe/Berlin
X-WR-TIMEZONE:Europe/Berlin
BEGIN:VEVENT
UID:18184@arsmondo-online.de
DTSTART;TZID=Europe/Berlin:20260501T180000
DTEND;TZID=Europe/Berlin:20260501T200000
DTSTAMP:20260413T142827Z
URL:https://www.arsmondo-online.de/kulturtermine/zwinger-x-powerrave-3/
SUMMARY:zwinger x powerrave
DESCRIPTION:Wir tanzen in den Mai mit feinstem Techno von DJ neon lobster\n
 \nHeidelberger Stückemarkt\n\n\nzwinger x\nTheaterplatz\n\n\n\n\nFast ist
  es eine Tradition: Wir tanzen in den Mai mit feinstem Techno von DJ @neon
 lobster aka. dem ehemaligen Ensemblemitglied Leon Wieferich! Denn wer sagt
  eigentlich\, dass ein guter Rave erst um 2 Uhr nachts beginnt? Der Powerr
 ave ist für alle\, denen Verpflichtungen oder die generelle Müdigkeit f
 ür gewöhnlich im Weg stehen: ein kurzer Rave zum Energietanken\, um das 
 Ende der Woche zu feiern oder um den Sommer einzuläuten – Eskapismus li
 ght sozusagen!\n\n\n\n
CATEGORIES:Crossover
LOCATION:Theater und Orchester Heidelberg\, Theaterstraße 10\, Heidelberg\
 , Baden-Württemberg\, 69117\, Rhein-Neckar\, Deutschland
X-APPLE-STRUCTURED-LOCATION;VALUE=URI;X-ADDRESS=Theaterstraße 10\, Heidelb
 erg\, Baden-Württemberg\, 69117\, Rhein-Neckar\, Deutschland;X-APPLE-RADI
 US=100;X-TITLE=Theater und Orchester Heidelberg:geo:0,0
END:VEVENT
BEGIN:VTIMEZONE
TZID:Europe/Berlin
X-LIC-LOCATION:Europe/Berlin
BEGIN:DAYLIGHT
DTSTART:20260329T030000
TZOFFSETFROM:+0100
TZOFFSETTO:+0200
TZNAME:CEST
END:DAYLIGHT
END:VTIMEZONE
END:VCALENDAR