BEGIN:VCALENDAR
VERSION:2.0
PRODID:-//wp-events-plugin.com//7.2.3.1//EN
TZID:Europe/Berlin
X-WR-TIMEZONE:Europe/Berlin
BEGIN:VEVENT
UID:18180@arsmondo-online.de
DTSTART;TZID=Europe/Berlin:20260430T160000
DTEND;TZID=Europe/Berlin:20260430T170000
DTSTAMP:20260413T142727Z
URL:https://www.arsmondo-online.de/kulturtermine/zwinger-x-songs-of-gastar
 beiter/
SUMMARY:zwinger x songs of gastarbeiter
DESCRIPTION:Musikalische Reise durch 50 Jahre Einwanderung in Deutschland m
 it Bülent Kullukçu\n\nHeidelberger Stückemarkt\n\n\nzwinger x\nTheaterp
 latz\n\n\n\n\n»Songs of Gastarbeiter« ist ein popkulturelles Portrait ei
 ner Generation\, denen Deutschland das Wirtschaftswunder maßgeblich verda
 nkt und deren soziale Realität dennoch verkannt wird. In seiner Lecture o
 der auch »kommentiertem Auflegen« wirft Theatermacher Bülent Kullukçu 
 ein Licht auf musikalische Schätze\, die in Almanya eine größere Bühne
  verdienen und nicht verloren gehen dürfen. Er richtet dabei den Blick au
 f die Pioniere\, die mit ihrer Musik ihre Lebens- und Arbeitsbedingungen t
 hematisierten\, sich nicht nur leidend\, sondern auch kämpferisch und iro
 nisch gaben und scharfsinnige Beobachter der deutschen Gesellschaft und Po
 litik waren – oder einfach nur eine Party feiern wollten!\nBülent Kullu
 kcu ist Regisseur\, Autor\, Komponist\, bildender Künstler\, Schauspieler
  und Musiker. Gemeinsam mit dem Autor İmran Ayata gab er die Compilations
  »Songs of Gastarbeiter« Vol. 1 und Vol 2 heraus. Dafür wühlten die be
 iden in Archiven\, durchforsteten Musiksammlungen ihrer Eltern und Bekannt
 en\, um Songs der ersten Einwanderergeneration zu finden. Diese Alben sind
  musikalisch divers\, versammeln politische Protestsongs sowie Partymusik 
 und sind ein Aufruf gegen falsch verstandene Homogenität.\n\n\n\n
CATEGORIES:Konzert
LOCATION:Theater und Orchester Heidelberg\, Theaterstraße 10\, Heidelberg\
 , Baden-Württemberg\, 69117\, Rhein-Neckar\, Deutschland
X-APPLE-STRUCTURED-LOCATION;VALUE=URI;X-ADDRESS=Theaterstraße 10\, Heidelb
 erg\, Baden-Württemberg\, 69117\, Rhein-Neckar\, Deutschland;X-APPLE-RADI
 US=100;X-TITLE=Theater und Orchester Heidelberg:geo:0,0
END:VEVENT
BEGIN:VTIMEZONE
TZID:Europe/Berlin
X-LIC-LOCATION:Europe/Berlin
BEGIN:DAYLIGHT
DTSTART:20260329T030000
TZOFFSETFROM:+0100
TZOFFSETTO:+0200
TZNAME:CEST
END:DAYLIGHT
END:VTIMEZONE
END:VCALENDAR