BEGIN:VCALENDAR
VERSION:2.0
PRODID:-//wp-events-plugin.com//7.2.3.1//EN
TZID:Europe/Berlin
X-WR-TIMEZONE:Europe/Berlin
BEGIN:VEVENT
UID:18187@arsmondo-online.de
DTSTART;TZID=Europe/Berlin:20260503T170000
DTEND;TZID=Europe/Berlin:20260503T181500
DTSTAMP:20260413T142847Z
URL:https://www.arsmondo-online.de/kulturtermine/zwinger-x-stjerne/
SUMMARY:zwinger x stjerne
DESCRIPTION:Farbenfrohe Mischung aus R&amp\;B und Pop - eindringlich und at
 mosphärisch\n\nHeidelberger Stückemarkt\n\n\nzwinger x\nTheaterplatz\n\n
 \n\n\nMit feinem Gespür für Atmosphäre und Tiefe öffnet die Sängerin 
 und Komponistin Stjerne Türen zu inneren Landschaften. Ihre Songs sind vi
 elschichtige Erzählungen – poetisch\, tiefgründig und von einer eindri
 nglichen Emotionalität getragen. Live kreiert die Künstlerin ein kontras
 treiches Programm\, bei dem sich RnB und Pop mit Einflüssen aus Jazz und 
 Klassik zu einem vibrierenden Mosaik verbinden. Über den Klängen von Kla
 vier\, Synthesizer und Beats schwebt Stjernes berührende und warme Stimme
  – zwischen träumerischer Versunkenheit und leidenschaftlicher Intensit
 ät.\n\n\n\n
CATEGORIES:Konzert
LOCATION:Theater und Orchester Heidelberg\, Theaterstraße 10\, Heidelberg\
 , Baden-Württemberg\, 69117\, Rhein-Neckar\, Deutschland
X-APPLE-STRUCTURED-LOCATION;VALUE=URI;X-ADDRESS=Theaterstraße 10\, Heidelb
 erg\, Baden-Württemberg\, 69117\, Rhein-Neckar\, Deutschland;X-APPLE-RADI
 US=100;X-TITLE=Theater und Orchester Heidelberg:geo:0,0
END:VEVENT
BEGIN:VTIMEZONE
TZID:Europe/Berlin
X-LIC-LOCATION:Europe/Berlin
BEGIN:DAYLIGHT
DTSTART:20260329T030000
TZOFFSETFROM:+0100
TZOFFSETTO:+0200
TZNAME:CEST
END:DAYLIGHT
END:VTIMEZONE
END:VCALENDAR